BEGIN:VCALENDAR
VERSION:2.0
PRODID:-//ChamberMaster//Event Calendar 2.0//EN
METHOD:PUBLISH
X-PUBLISHED-TTL:P3D
REFRESH-INTERVAL:P3D
CALSCALE:GREGORIAN
BEGIN:VEVENT
DTSTART:20180804T010000Z
DTEND:20180804T040000Z
X-MICROSOFT-CDO-ALLDAYEVENT:FALSE
SUMMARY:First Fridays Middletown: Wellness Cafe
DESCRIPTION:First Fridays is a host of public parties in downtown Middletown this summer on the First Friday of each month and YOU and your family are invited! The parties begin on June 1 and continue through September. They run from 6 to 9 pm and feature businesses open late\, local artists and artisans\, live music in several locations\, street food available for purchase\, and a theme for each Friday:   August 3:?Wellness Caf    September 7:?Lake County Fashion Show Start your evening by picking up a treasure map at the Middletown Art Center or another participating business. Follow the map to meet the artists\, collect tokens\, and be entered in a drawing to win prizes.\n\nOn Friday\, August 3\, we will feature a "Wellness Cafe" where you will be able to try different products and services provided by local experts who promote well-being\, health\, and fitness. First Fridays is brought to you by Phoenix Collaborative\, in partnership with the Middletown Area Merchants Association (MAMA)\, the Middletown Art Center (MAC)\, and the Middletown Community Farmers' Market. For more information about First Fridays please visit Facebook: https://www.facebook.com/phoenixcollaborative/
X-ALT-DESC;FMTTYPE=text/html:First Fridays is a host of public parties in downtown Middletown this summer on the First Friday of each month and YOU and your family are invited! The parties begin on June 1 and continue through September. They run from 6 to 9 pm and feature businesses open late\, local artists and artisans\, live music in several locations\, street food available for purchase\, and a theme for each Friday: &bull\; August 3:?Wellness Caf&eacute\; &bull\; September 7:?Lake County Fashion Show Start your evening by picking up a treasure map at the Middletown Art Center or another participating business. Follow the map to meet the artists\, collect tokens\, and be entered in a drawing to win prizes.<br />\n<strong>On Friday\, August 3\, we will feature a &quot\;Wellness Cafe&quot\; where you will be able to try different products and services provided by local experts who promote well-being\, health\, and fitness</strong>. First Fridays is brought to you by Phoenix Collaborative\, in partnership with the Middletown Area Merchants Association (MAMA)\, the Middletown Art Center (MAC)\, and the Middletown Community Farmers&rsquo\; Market. For more information about First Fridays please visit Facebook: https://www.facebook.com/phoenixcollaborative/
LOCATION:Downtown Middletown\, California
UID:e.2411.5596
SEQUENCE:3
DTSTAMP:20260423T181742Z
URL:https://support.lakecochamber.com/events/details/first-fridays-middletown-wellness-cafe-5596
END:VEVENT

END:VCALENDAR
