BEGIN:VCALENDAR
VERSION:2.0
PRODID:-//ChamberMaster//Event Calendar 2.0//EN
METHOD:PUBLISH
X-PUBLISHED-TTL:P3D
REFRESH-INTERVAL:P3D
CALSCALE:GREGORIAN
BEGIN:VEVENT
DTSTART:20251115T020000Z
DTEND:20251115T050000Z
X-MICROSOFT-CDO-ALLDAYEVENT:FALSE
SUMMARY:Friendsgiving Bingo Bash
DESCRIPTION:Get ready to turn up the volume and light up the night at the Friendsgiving Bingo Bash   the wildest bingo party of the year! On Friday\, November 14\, 2025\, the Twin Pine Casino Event Center will come alive with flashing lights\, pulsing beats from DJ Benny Blanco\, and non-stop energy you won't want to miss. We're bringing the party to bingo with music\, prizes\, grazing table\, and epic door raffles that'll keep the excitement going all night long! Doors open at 5 p.m.\, and the games kick off at 6 p.m. Grab your Early Bird tickets for $50 before November 7   they jump to $60 on November 8! Your ticket includes five thrilling games and refreshments. Additional packs\, special games and raffles will be available for purchase. So grab your crew\, bring your lucky charms\, and get ready to dance\, daub\, and shout BINGO! in style. Every dollar raised helps send Middletown Middle School 6th graders to science camp   so you can feel good while getting your game on!
X-ALT-DESC;FMTTYPE=text/html:Get ready to turn up the volume and light up the night at the Friendsgiving Bingo Bash &mdash\; the wildest bingo party of the year! On Friday\, November 14\, 2025\, the Twin Pine Casino Event Center will come alive with flashing lights\, pulsing beats from DJ Benny Blanco\, and non-stop energy you won&rsquo\;t want to miss. We&rsquo\;re bringing the party to bingo with music\, prizes\, grazing table\, and epic door raffles that&rsquo\;ll keep the excitement going all night long! Doors open at 5 p.m.\, and the games kick off at 6 p.m. Grab your Early Bird tickets for $50 before November 7 &mdash\; they jump to $60 on November 8! Your ticket includes five thrilling games and refreshments. Additional packs\, special games and raffles will be available for purchase. So grab your crew\, bring your lucky charms\, and get ready to dance\, daub\, and shout BINGO! in style. Every dollar raised helps send Middletown Middle School 6th graders to science camp &mdash\; so you can feel good while getting your game on!
LOCATION:Twin Pine Casino Event Center
UID:e.2411.20248
SEQUENCE:3
DTSTAMP:20260421T084151Z
URL:https://support.lakecochamber.com/events/details/friendsgiving-bingo-bash-20248
END:VEVENT

END:VCALENDAR
