BEGIN:VCALENDAR
VERSION:2.0
PRODID:-//ChamberMaster//Event Calendar 2.0//EN
METHOD:PUBLISH
X-PUBLISHED-TTL:P3D
REFRESH-INTERVAL:P3D
CALSCALE:GREGORIAN
BEGIN:VEVENT
DTSTART:20191127T020000Z
DTEND:20191127T040000Z
X-MICROSOFT-CDO-ALLDAYEVENT:FALSE
SUMMARY:Gaslight
DESCRIPTION:Stars Ingrid Bergman\, Charles Boyer and Joseph Cotten. Filmed in black and white\, set in foggy Victorian England\, and directed by George Cukor. This dark\, Hitchcock-like mystery\, made in 1944\, brought Bergman her first Best Actress Oscar. It also features an 18 year old Angela Lansbury in her first film role. Rated PG. Run time 1 hr 54 minutes. Donations gratefully accepted at the door. Tickets not available online. Assistive Listening devices are available.
X-ALT-DESC;FMTTYPE=text/html:Stars Ingrid Bergman\, Charles Boyer and Joseph Cotten. Filmed in black and white\, set in foggy Victorian England\, and directed by George Cukor. This dark\, Hitchcock-like mystery\, made in 1944\, brought Bergman her first Best Actress Oscar. It also features an 18 year old Angela Lansbury in her first film role. Rated PG. Run time 1 hr 54 minutes. Donations gratefully accepted at the door. Tickets not available online. Assistive Listening devices are available.
LOCATION:Soper Reese Theatre
UID:e.2411.8505
SEQUENCE:3
DTSTAMP:20260425T024238Z
URL:https://support.lakecochamber.com/events/details/gaslight-11-26-2019-8505
END:VEVENT

END:VCALENDAR
