BEGIN:VCALENDAR
VERSION:2.0
PRODID:-//ChamberMaster//Event Calendar 2.0//EN
METHOD:PUBLISH
X-PUBLISHED-TTL:P3D
REFRESH-INTERVAL:P3D
CALSCALE:GREGORIAN
BEGIN:VEVENT
DTSTART:20251015T010000Z
DTEND:20251015T030000Z
X-MICROSOFT-CDO-ALLDAYEVENT:FALSE
SUMMARY:Gentlemen Prefer Blondes
DESCRIPTION:Free entry. Donations greatly appreciated. Concessions open for purchase. Assistive listening devices available. Sponsored by Lisa Wentz A beautiful showgirl\, Lorelei Lee (Marilyn Monroe)\, is engaged to be married to the wealthy Gus Esmond (Tommy Noonan). Gus's rich father\, Esmond Sr.\, highly disapproves and thinks that Lorelei is just after his money. When Lorelei goes on a cruise accompanied by her best friend\, Dorothy Shaw (Jane Russell)\, Esmond Sr. hires a private detective\, Ernie Malone (Elliott Reid)\, to follow her and report any questionable behavior that would disqualify her from the marriage. Musical/Comedy Release Date Jul 18\, 1953 Runtime 1h 31m\,
X-ALT-DESC;FMTTYPE=text/html:Free entry. Donations greatly appreciated. Concessions open for purchase. Assistive listening devices available. Sponsored by Lisa Wentz A beautiful showgirl\, Lorelei Lee (Marilyn Monroe)\, is engaged to be married to the wealthy Gus Esmond (Tommy Noonan). Gus&rsquo\;s rich father\, Esmond Sr.\, highly disapproves and thinks that Lorelei is just after his money. When Lorelei goes on a cruise accompanied by her best friend\, Dorothy Shaw (Jane Russell)\, Esmond Sr. hires a private detective\, Ernie Malone (Elliott Reid)\, to follow her and report any questionable behavior that would disqualify her from the marriage. Musical/Comedy Release Date Jul 18\, 1953 Runtime 1h 31m\,
LOCATION:Soper Reese Theatre 275 S Main Street Lakeport\, CA
UID:e.2411.20231
SEQUENCE:3
DTSTAMP:20260421T091645Z
URL:https://support.lakecochamber.com/events/details/gentlemen-prefer-blondes-20231
END:VEVENT

END:VCALENDAR
