BEGIN:VCALENDAR
VERSION:2.0
PRODID:-//ChamberMaster//Event Calendar 2.0//EN
METHOD:PUBLISH
X-PUBLISHED-TTL:P3D
REFRESH-INTERVAL:P3D
CALSCALE:GREGORIAN
BEGIN:VEVENT
DTSTART:20220407T010000Z
DTEND:20220407T022000Z
X-MICROSOFT-CDO-ALLDAYEVENT:FALSE
SUMMARY:Get Financially Fit
DESCRIPTION:Get Financially Fit is a FREE "Hands-on" workshop series for business owners to work on their unique business concerns and have a private space to ask questions related to their business plan. Audience: Early Startups or Struggling Rural Businesses
X-ALT-DESC;FMTTYPE=text/html:Get Financially Fit is a FREE "Hands-on" workshop series for business owners to work on their unique business concerns and have a private space to ask questions related to their business plan. Audience: Early Startups or Struggling Rural Businesses
LOCATION:Virtual
UID:e.2411.13969
SEQUENCE:3
DTSTAMP:20260423T185009Z
URL:https://support.lakecochamber.com/events/details/get-financially-fit-04-06-2022-13969
END:VEVENT

END:VCALENDAR
