BEGIN:VCALENDAR
VERSION:2.0
PRODID:-//ChamberMaster//Event Calendar 2.0//EN
METHOD:PUBLISH
X-PUBLISHED-TTL:P3D
REFRESH-INTERVAL:P3D
CALSCALE:GREGORIAN
BEGIN:VEVENT
DTSTART:20220910T170000Z
DTEND:20220910T190000Z
X-MICROSOFT-CDO-ALLDAYEVENT:FALSE
SUMMARY:Good Ol Boys Kicks for Kids Run
DESCRIPTION:$25.00 donation without shoes\n\n$20.00 donation with shoes
X-ALT-DESC;FMTTYPE=text/html:$25.00 donation without shoes<br />\n$20.00 donation with shoes
LOCATION:Maynards Sports Bar 16195 Main Street Lower Lake\, CA Kelseyville Clubhouse 3737 Main Street Kelseyville\, CA
UID:e.2411.15505
SEQUENCE:3
DTSTAMP:20260422T132734Z
URL:https://support.lakecochamber.com/events/details/good-ol-boys-kicks-for-kids-run-15505
END:VEVENT

END:VCALENDAR
