BEGIN:VCALENDAR
VERSION:2.0
PRODID:-//ChamberMaster//Event Calendar 2.0//EN
METHOD:PUBLISH
X-PUBLISHED-TTL:P3D
REFRESH-INTERVAL:P3D
CALSCALE:GREGORIAN
BEGIN:VEVENT
DTSTART:20220528T040000Z
DTEND:20220527T185500Z
X-MICROSOFT-CDO-ALLDAYEVENT:FALSE
SUMMARY:Gotcha Covered
DESCRIPTION:Fun dance band will be rockin' the stage in the Grapevine Bar and Lounge at Twin Pine Casino & Hotel.
X-ALT-DESC;FMTTYPE=text/html:Fun dance band will be rockin&#39\; the stage in the Grapevine Bar and Lounge at Twin Pine Casino &amp\; Hotel.
LOCATION:22223 Hwy 29 Middletown\, CA 95461
UID:e.2411.15065
SEQUENCE:3
DTSTAMP:20260424T070434Z
URL:https://support.lakecochamber.com/events/details/gotcha-covered-05-27-2022-15065
END:VEVENT

END:VCALENDAR
