BEGIN:VCALENDAR
VERSION:2.0
PRODID:-//ChamberMaster//Event Calendar 2.0//EN
METHOD:PUBLISH
X-PUBLISHED-TTL:P3D
REFRESH-INTERVAL:P3D
CALSCALE:GREGORIAN
BEGIN:VEVENT
DTSTART:20220313T220000Z
DTEND:20220313T233000Z
X-MICROSOFT-CDO-ALLDAYEVENT:FALSE
SUMMARY:Great Jazz Quartet at Tallman Concert with Conversation
DESCRIPTION:Each fall and winter\, the Tallman Hotel hosts a series of monthly intimate and informal Sunday afternoon house concerts in the Meeting House next to the Hotel.\n\n\nJazz vocalist Kenny Washington\, scheduled to perform with Jeff Massanari at our upcoming Tallman Concert with Conversation\, has tested positive and has had to cancel his appearance. However\, we've assembled three of the best jazz performers in Mendocino County to join Jeff this Sunday.\n\nPictured above\, they are BARNEY MCCLURE on piano\, vocalist ROSEANNE WETZEL\, guitarist JEFF MASSANARI and PIERRE ARCHAIN on bass. It should be great fun.\n\n\nBecause of COVID precautions\, we will be limiting the audience to those with proof of vaccination. We will also take extra ventilation precautions in the Meeting House and limit audience size to allow for social distancing.\n\nTickets at $30 + tax can be purchased at EVENTBRITE.COM or by calling the Tallman Hotel reservation desk at 707-275-2244 ext. 0.\n\nNotes on Washington and Massanari:\n\nRecently dubbed "the Superman of the Bay Area jazz scene" by the San Francisco Chronicle\, Kenny Washington is a jazz virtuoso who thrills audiences with his soulful interpretations\, seemingly limitless range\, and rapid-fire scatting.  A native of New Orleans who grew up singing gospel in church\, Kenny studied various styles of music at Xavier University and then performed worldwide with the U. S. Navy band for nine years.  He then settled in the Bay Area where he has recorded\, collaborated with others\, and was the featured artist at the "Top of the Mark" for many years.\n\nJeff Massanari is a graduate of the Berklee School of Music in Boston\,  He's been performing and teaching jazz and blues since he was a teenager.  One of the Bay Area's most in-demand guitarists\, Jeff is fluent in many styles including straight-ahead jazz\, fusion\, blues\, rock and country. He is often called on to accompany visiting artists with the San Francisco Symphony at Davies Hall and Stern Grove.  Jeff has a long-term commitment to bringing jazz to high school students in the North Bay Area.
X-ALT-DESC;FMTTYPE=text/html:<div><span style="font-size:14px\;"><span style="font-family:arial\;">Each fall and winter\, the Tallman Hotel hosts a series of monthly intimate and informal Sunday afternoon house concerts in the Meeting House next to the Hotel.</span></span>\n<div style="text-align: center\;"><br />\n<span style="font-size:14px\;"><span style="font-family:arial\;"><b><span style="color: rgb(56\, 72\, 86)\;">Jazz vocalist Kenny Washington\, scheduled to perform with Jeff Massanari at our upcoming Tallman Concert with Conversation\, has tested positive and has had to cancel his appearance. However\, we&#39\;ve assembled three of the best jazz performers in Mendocino County to join Jeff this Sunday.</span></b></span></span><span style="font-size:\n10.5pt\;font-family:&quot\;Trebuchet MS&quot\;\,sans-serif\;color:#384856"><o:p></o:p></span></div>\n\n<div style="text-align: center\;"><span style="font-size:14px\;"><span style="font-family:arial\;"><b><span style="color: rgb(56\, 72\, 86)\;">Pictured above\, they are BARNEY MCCLURE on piano\, vocalist ROSEANNE WETZEL\, guitarist JEFF MASSANARI and PIERRE ARCHAIN on bass. It should be great fun.</span></b></span></span><span style="font-size:10.5pt\;font-family:&quot\;Trebuchet MS&quot\;\,sans-serif\;color:#384856"><o:p></o:p></span></div>\n<br />\n<span style="font-size:14px\;"><span style="font-family:arial\;">Because of COVID precautions\, we will be limiting the audience to those with proof of vaccination. We will also take extra ventilation precautions in the Meeting House and limit audience size to allow for social distancing.<br />\nTickets at $30 + tax can be purchased at <em><strong><a href="https://www.eventbrite.com/e/185319173637">EVENTBRITE.COM</a></strong></em> or by calling the Tallman Hotel reservation desk at 707-275-2244 ext. 0.<br />\n<strong>Notes on Washington and Massanari:</strong><br />\nRecently dubbed &ldquo\;the Superman of the Bay Area jazz scene&rdquo\; by the San Francisco Chronicle\,<a href="https://kennywashingtonvocalist.com/"><strong><em> Kenny Washingt</em></strong></a><em><strong>on</strong> i</em>s a jazz virtuoso who thrills audiences with his soulful interpretations\, seemingly limitless range\, and rapid-fire scatting.&nbsp\; A native of New Orleans who grew up singing gospel in church\, Kenny studied various styles of music at Xavier University and then performed worldwide with the U. S. Navy band for nine years.&nbsp\; He then settled in the Bay Area where he has recorded\, collaborated with others\, and was the featured artist at the &ldquo\;Top of the Mark&rdquo\; for many years.<br />\n<em><a href="https://www.youtube.com/watch?v=Sm09kb7NlFY"><strong>Jeff Massanari</strong></a></em> is a graduate of the Berklee School of Music in Boston\,&nbsp\; He&rsquo\;s been performing and teaching jazz and blues since he was a teenager.&nbsp\; One of the Bay Area&rsquo\;s most in-demand guitarists\, Jeff is fluent in many styles including straight-ahead jazz\, fusion\, blues\, rock and country. He is often called on to accompany visiting artists with the San Francisco Symphony at Davies Hall and Stern Grove.&nbsp\; Jeff has a long-term commitment to bringing jazz to high school students in the North Bay Area.</span></span></div>\n
LOCATION:
UID:e.2411.13473
SEQUENCE:3
DTSTAMP:20260424T084242Z
URL:https://support.lakecochamber.com/events/details/great-jazz-quartet-at-tallman-concert-with-conversation-13473
END:VEVENT

END:VCALENDAR
