BEGIN:VCALENDAR
VERSION:2.0
PRODID:-//ChamberMaster//Event Calendar 2.0//EN
METHOD:PUBLISH
X-PUBLISHED-TTL:P3D
REFRESH-INTERVAL:P3D
CALSCALE:GREGORIAN
BEGIN:VEVENT
DTSTART:20220312T163000Z
DTEND:20220312T183000Z
X-MICROSOFT-CDO-ALLDAYEVENT:FALSE
SUMMARY:Guided Nature Walk at Anderson Marsh
DESCRIPTION:After a lengthy pause caused by the COVID-19 pandemic\, monthly "Second Saturday" Guided Nature Walks will begin once again at Anderson Marsh State Historic Park. The next scheduled walk will be held on Saturday\, March 12th\, beginning at 8:30am. Leading the March walk will be State Parks Docent and Certified California Naturalist Henry Bornstein. The hike will cover parts of the Cache Creek Nature Trail\, the Marsh Trail and the Ridge Trail. The hike is over mostly level terrain and will cover about 3 miles at a leisurely pace. The hike should last between 1  and 2 hours. Bring binoculars and meet in the parking lot at 8:15am for time to experience the early morning wildlife that can be found in the Ranch House and Barn complex yard   the walk will begin at 8:30am. There is no charge for the guided nature walk and parking is free for those attending.
X-ALT-DESC;FMTTYPE=text/html:After a lengthy pause caused by the COVID-19 pandemic\, monthly &ldquo\;Second Saturday&rdquo\; Guided Nature Walks will begin once again at Anderson Marsh State Historic Park. The next scheduled walk will be held on Saturday\, March 12th\, beginning at 8:30am. Leading the March walk will be State Parks Docent and Certified California Naturalist Henry Bornstein. The hike will cover parts of the Cache Creek Nature Trail\, the Marsh Trail and the Ridge Trail. The hike is over mostly level terrain and will cover about 3 miles at a leisurely pace. The hike should last between 1&frac12\; and 2 hours. Bring binoculars and meet in the parking lot at 8:15am for time to experience the early morning wildlife that can be found in the Ranch House and Barn complex yard &ndash\; the walk will begin at 8:30am. There is no charge for the guided nature walk and parking is free for those attending.
LOCATION:Anderson Marsh State Historic Park
UID:e.2411.13960
SEQUENCE:3
DTSTAMP:20260424T062555Z
URL:https://support.lakecochamber.com/events/details/guided-nature-walk-at-anderson-marsh-03-12-2022-13960
END:VEVENT

END:VCALENDAR
