BEGIN:VCALENDAR
VERSION:2.0
PRODID:-//ChamberMaster//Event Calendar 2.0//EN
METHOD:PUBLISH
X-PUBLISHED-TTL:P3D
REFRESH-INTERVAL:P3D
CALSCALE:GREGORIAN
BEGIN:VEVENT
DTSTART:20220409T153000Z
DTEND:20220409T180000Z
X-MICROSOFT-CDO-ALLDAYEVENT:FALSE
SUMMARY:Guided Nature Walk at Anderson Marsh
DESCRIPTION:The next in the series of monthly "Second Saturday" Guided Nature Walks at Anderson Marsh State Historic Park will be held on Saturday\, April 9th\, beginning at 8:30am. Each Guided Nature Walk is led by a volunteer State Parks Docent. The hike will cover parts of the Cache Creek Nature Trail\, the Marsh Trail and the Ridge Trail. The hike is over mostly level terrain and will cover about 3 miles at a leisurely pace. The hike should last between 1  and 2 hours. Bring binoculars and meet in the parking lot at 8:15am for time to experience the early morning wildlife that can be found in the Ranch House and Barn complex yard   the walk will begin at 8:30am. There is no charge for the guided nature walk and parking is free for those attending. Anderson Marsh State Historic Park is located on Hwy 53\, between Lower Lake and Clearlake. For more information about the guided walk\, email info@andersonmarsh.org or call (707) 995-2658.
X-ALT-DESC;FMTTYPE=text/html:The next in the series of monthly &ldquo\;Second Saturday&rdquo\; Guided Nature Walks at Anderson Marsh State Historic Park will be held on Saturday\, April 9th\, beginning at 8:30am. Each Guided Nature Walk is led by a volunteer State Parks Docent. The hike will cover parts of the Cache Creek Nature Trail\, the Marsh Trail and the Ridge Trail. The hike is over mostly level terrain and will cover about 3 miles at a leisurely pace. The hike should last between 1&frac12\; and 2 hours. Bring binoculars and meet in the parking lot at 8:15am for time to experience the early morning wildlife that can be found in the Ranch House and Barn complex yard &ndash\; the walk will begin at 8:30am. There is no charge for the guided nature walk and parking is free for those attending. Anderson Marsh State Historic Park is located on Hwy 53\, between Lower Lake and Clearlake. For more information about the guided walk\, email info@andersonmarsh.org or call (707) 995-2658.
LOCATION:Anderson Marsh State Historic Park 8825 Hwy 53 Lower Lake
UID:e.2411.14290
SEQUENCE:3
DTSTAMP:20260423T143632Z
URL:https://support.lakecochamber.com/events/details/guided-nature-walk-at-anderson-marsh-04-09-2022-14290
END:VEVENT

END:VCALENDAR
