BEGIN:VCALENDAR
VERSION:2.0
PRODID:-//ChamberMaster//Event Calendar 2.0//EN
METHOD:PUBLISH
X-PUBLISHED-TTL:P3D
REFRESH-INTERVAL:P3D
CALSCALE:GREGORIAN
BEGIN:VEVENT
DTSTART:20220611T150000Z
DTEND:20220611T180000Z
X-MICROSOFT-CDO-ALLDAYEVENT:FALSE
SUMMARY:Hike for Hospice
DESCRIPTION:Family friendly event\, hikers will have a choice of three hikes. The 4.5-mile\, 3 mile and the 1 & 2-mile hike to satisfy all hikers needs. Hikers are encouraged to form or join teams. Creative apparel is highly encouraged.
X-ALT-DESC;FMTTYPE=text/html:Family friendly event\, hikers will have a choice of three hikes. The 4.5-mile\, 3 mile and the 1 &amp\; 2-mile hike to satisfy all hikers needs. Hikers are encouraged to form or join teams. Creative apparel is highly encouraged.
LOCATION:Highland Springs Recreation Area
UID:e.2411.14059
SEQUENCE:3
DTSTAMP:20260423T204251Z
URL:https://support.lakecochamber.com/events/details/hike-for-hospice-06-11-2022-14059
END:VEVENT

END:VCALENDAR
