BEGIN:VCALENDAR
VERSION:2.0
PRODID:-//ChamberMaster//Event Calendar 2.0//EN
METHOD:PUBLISH
X-PUBLISHED-TTL:P3D
REFRESH-INTERVAL:P3D
CALSCALE:GREGORIAN
BEGIN:VEVENT
DTSTART:20210228T183000Z
DTEND:20210228T230000Z
X-MICROSOFT-CDO-ALLDAYEVENT:FALSE
SUMMARY:Hilarie Wilt Plays at Blue Wing Brunch Service
DESCRIPTION:With no indoor dining due to COVID-19 restrictions\, the Blue Wing is now offering take-out service as well as seating at our well-spaced and heated tables on the veranda of both the restaurant and the Tallman Hotel.  We have taken extensive measures to assure proper hygiene\, social distancing\, etc. and all guests and staff wear face coverings when not seated at table. Our service is from 12 to 8 PM Thursdays through Mondays with a 10:30 start for Sunday Brunch. Reservations and take-out orders can be made at 707-275-2233.\n\nWeather permitting\, local musicians play at a safe distance on the hotel veranda most evenings and from 11:30 to 2:00 for Sunday brunch.  Today at brunch we feature the fine Americana guitarist and vocalist HILARIE WILT.
X-ALT-DESC;FMTTYPE=text/html:<p>With no indoor dining due to COVID-19 restrictions\, the Blue Wing is now offering take-out service as well as seating at our well-spaced and heated tables on the veranda of both the restaurant and the Tallman Hotel.&nbsp\; We have taken extensive measures to assure proper hygiene\, social distancing\, etc. and all guests and staff wear face coverings when not seated at table. Our service is from 12 to 8 PM Thursdays through Mondays with a 10:30 start for Sunday Brunch. Reservations and take-out orders can be made at 707-275-2233.</p>\n\n<p>Weather permitting\, local musicians play at a safe distance on the hotel veranda most evenings and from 11:30 to 2:00 for Sunday brunch.&nbsp\; Today at brunch we feature the fine Americana guitarist and vocalist HILARIE WILT.</p>\n
LOCATION:Blue Wing Restaurant 9520 Main St\, Upper Lake
UID:e.2411.12685
SEQUENCE:3
DTSTAMP:20260424T011309Z
URL:https://support.lakecochamber.com/events/details/hilarie-wilt-plays-at-blue-wing-brunch-service-12685
END:VEVENT

END:VCALENDAR
