BEGIN:VCALENDAR
VERSION:2.0
PRODID:-//ChamberMaster//Event Calendar 2.0//EN
METHOD:PUBLISH
X-PUBLISHED-TTL:P3D
REFRESH-INTERVAL:P3D
CALSCALE:GREGORIAN
BEGIN:VEVENT
DTSTART:20220412T010000Z
DTEND:20220412T030000Z
X-MICROSOFT-CDO-ALLDAYEVENT:FALSE
SUMMARY:Hip Replacements at Blue Wing Monday Blues
DESCRIPTION:The Blue Wing is open from 12 to 8 PM Thursdays through Mondays with a 10:30 start for Sunday Brunch.  Seating is in the garden in good weather\, out on the heated veranda or at our well-spaced indoor tables.  We have taken extra ventilation\, distancing and hygienic precautions due to the Covid issue.  Reservations and take-out orders can be made at 707-275-2233. Take-out orders can also be placed on-line at the MENU PAGE of the Blue Wing Saloon web site.\n\n?\n\nLocal musicians play from 6 to 8 PM most evenings and from 11:30 to 2:00 at brunch on Sundays  on the Hotel veranda in good weather or at a safe distance by the bar otherwise. Continuing our long tradition of featuring blues performers on Mondays\, tonight we feature the HIP REPLACEMENTS with Jim Williams\, Tyrone Rivera\, Jon Hopkins and Steve DuBois.
X-ALT-DESC;FMTTYPE=text/html:The Blue Wing is open from 12 to 8 PM Thursdays through Mondays with a 10:30 start for Sunday Brunch.&nbsp\; Seating is in the garden in good weather\, out on the heated veranda or at our well-spaced indoor tables.&nbsp\; We have taken extra ventilation\, distancing and hygienic precautions due to the Covid issue.&nbsp\; Reservations and take-out orders can be made at 707-275-2233. Take-out orders can also be placed on-line at the&nbsp\;<strong><a href="https://tallmanhotel.com/restaurant/food-and-wine-menu/">MENU&nbsp\;</a><a href="https://tallmanhotel.com/restaurant/food-and-wine-menu/">PAGE&nbsp\;</a></strong>of the Blue Wing Saloon web site.<br />\n?<br />\nLocal musicians play from 6 to 8 PM most evenings and from 11:30 to 2:00 at brunch on Sundays&nbsp\; on the Hotel veranda in good weather or at a safe distance by the bar otherwise. Continuing our long tradition of featuring blues performers on Mondays\, tonight we feature the HIP REPLACEMENTS with Jim Williams\, Tyrone Rivera\, Jon Hopkins and Steve DuBois.
LOCATION:
UID:e.2411.13997
SEQUENCE:3
DTSTAMP:20260423T170842Z
URL:https://support.lakecochamber.com/events/details/hip-replacements-at-blue-wing-monday-blues-04-11-2022-13997
END:VEVENT

END:VCALENDAR
