BEGIN:VCALENDAR
VERSION:2.0
PRODID:-//ChamberMaster//Event Calendar 2.0//EN
METHOD:PUBLISH
X-PUBLISHED-TTL:P3D
REFRESH-INTERVAL:P3D
CALSCALE:GREGORIAN
BEGIN:VEVENT
DTSTART:20220524T010000Z
DTEND:20220524T030000Z
X-MICROSOFT-CDO-ALLDAYEVENT:FALSE
SUMMARY:Hip Replacements at Blue Wing Monday Blues
DESCRIPTION:The Blue Wing is open from 12 to 8 PM Thursdays through Mondays with a 10:30 start for Sunday Brunch.  Seating is in the garden in good weather\, out on the heated veranda or at our well-spaced indoor tables.  Reservations can be made online HERE or by calling the restaurant at 707-275-2233. Take-out orders can also be placed by phone or online at the MENU PAGE of the Blue Wing Saloon web site.\n\nLocal musicians play from 6 to 8 PM most evenings  on the Hotel veranda in good weather or inside by the bar otherwise.  Continuing our long tradition of top blues bands on Mondays\, tonight we feature the HIP REPLACEMENTS\, a fine local band with Jim Williams\, Tyrone Rivera\, Jon Hopkins and Steve DuBois.
X-ALT-DESC;FMTTYPE=text/html:<p>The Blue Wing is open from 12 to 8 PM Thursdays through Mondays with a 10:30 start for Sunday Brunch.&nbsp\; Seating is in the garden in good weather\, out on the heated veranda or at our well-spaced indoor tables.&nbsp\; Reservations can be made online&nbsp\;<a href="https://tallmanhotel.com/blue-wing-saloon/"><strong>HERE</strong></a>&nbsp\;or by calling the restaurant at 707-275-2233. Take-out orders can also be placed by phone or online at the&nbsp\;<strong><a href="https://tallmanhotel.com/restaurant/food-and-wine-menu/">MENU&nbsp\;</a><a href="https://tallmanhotel.com/restaurant/food-and-wine-menu/">PAGE&nbsp\;</a></strong>of the Blue Wing Saloon web site.</p>\n\n<p>Local musicians play from 6 to 8 PM most evenings&nbsp\; on the Hotel veranda in good weather or inside by the bar otherwise.&nbsp\; Continuing our long tradition of top blues bands on Mondays\, tonight we feature the HIP REPLACEMENTS\, a fine local band with Jim Williams\, Tyrone Rivera\, Jon Hopkins and Steve DuBois.</p>\n
LOCATION:
UID:e.2411.14269
SEQUENCE:3
DTSTAMP:20260424T222628Z
URL:https://support.lakecochamber.com/events/details/hip-replacements-at-blue-wing-monday-blues-05-23-2022-14269
END:VEVENT

END:VCALENDAR
