BEGIN:VCALENDAR
VERSION:2.0
PRODID:-//ChamberMaster//Event Calendar 2.0//EN
METHOD:PUBLISH
X-PUBLISHED-TTL:P3D
REFRESH-INTERVAL:P3D
CALSCALE:GREGORIAN
BEGIN:VEVENT
DTSTART:20220430T160000Z
DTEND:20220501T000000Z
X-MICROSOFT-CDO-ALLDAYEVENT:FALSE
SUMMARY:Horse Play Days
DESCRIPTION:For you and your horse! Fun Play Days! Over 25 Obstacle courses. Great for everyday discipline for horsemanship Coaches will be on site to help. - Must call to reserve.
X-ALT-DESC;FMTTYPE=text/html:For you and your horse! Fun Play Days! Over 25 Obstacle courses. Great for everyday discipline for horsemanship Coaches will be on site to help. - Must call to reserve.
LOCATION:8900 Wight Way\, Kelseyville\, CA
UID:e.2411.14044
SEQUENCE:3
DTSTAMP:20260423T162819Z
URL:https://support.lakecochamber.com/events/details/horse-play-days-04-30-2022-14044
END:VEVENT

END:VCALENDAR
