BEGIN:VCALENDAR
VERSION:2.0
PRODID:-//ChamberMaster//Event Calendar 2.0//EN
METHOD:PUBLISH
X-PUBLISHED-TTL:P3D
REFRESH-INTERVAL:P3D
CALSCALE:GREGORIAN
BEGIN:VEVENT
DTSTART:20220724T000000Z
DTEND:20220724T040000Z
X-MICROSOFT-CDO-ALLDAYEVENT:FALSE
SUMMARY:Hot Havana Night
DESCRIPTION:Live Music by Carlos Herrera Band Dinner. Buffet provided by Chef Jerry Phillips
X-ALT-DESC;FMTTYPE=text/html:Live Music by Carlos Herrera Band Dinner. Buffet provided by Chef Jerry Phillips
LOCATION:Chacewater Winery & Olive Mill Kelseyville\, CA
UID:e.2411.15150
SEQUENCE:3
DTSTAMP:20260423T135510Z
URL:https://support.lakecochamber.com/events/details/hot-havana-night-15150
END:VEVENT

END:VCALENDAR
