BEGIN:VCALENDAR
VERSION:2.0
PRODID:-//ChamberMaster//Event Calendar 2.0//EN
METHOD:PUBLISH
X-PUBLISHED-TTL:P3D
REFRESH-INTERVAL:P3D
CALSCALE:GREGORIAN
BEGIN:VEVENT
DTSTART:20220626T040000Z
DTEND:20220626T060000Z
X-MICROSOFT-CDO-ALLDAYEVENT:FALSE
SUMMARY:Junior Ranger Hike
DESCRIPTION:Junior Rangers will explore different subject areas related to cultural and natural resources via hands on activities and guided hikes. Junior Rangers will learn to become stewards for the land in a fun and engaging environment. This weeks topic will be the water cycle.
X-ALT-DESC;FMTTYPE=text/html:Junior Rangers will explore different subject areas related to cultural and natural resources via hands on activities and guided hikes. Junior Rangers will learn to become stewards for the land in a fun and engaging environment. This weeks topic will be the water cycle.
LOCATION:5300 Soda Bay Road Kelseyville meet @ The Educational Pavilion Clear Lake State Park
UID:e.2411.15082
SEQUENCE:3
DTSTAMP:20260423T132155Z
URL:https://support.lakecochamber.com/events/details/junior-ranger-hike-15082
END:VEVENT

END:VCALENDAR
