BEGIN:VCALENDAR
VERSION:2.0
PRODID:-//ChamberMaster//Event Calendar 2.0//EN
METHOD:PUBLISH
X-PUBLISHED-TTL:P3D
REFRESH-INTERVAL:P3D
CALSCALE:GREGORIAN
BEGIN:VEVENT
DTSTART:20180902T010000Z
DTEND:20180902T040000Z
X-MICROSOFT-CDO-ALLDAYEVENT:FALSE
SUMMARY:Kenny Neal at Blue Wing Labor Day Blues Fest.
DESCRIPTION:Because of the fires in Lake County\, we've re-scheduled the first night of our annual Blue Wing Blues Festival from August 4 to Saturday September 1. We're very fortunate that Kenny and his Family Band is able to make a special trip out from Baton Rouge to do these two make-up gigs for us. The opening night features a great local band headed by guitarist HOWARD REGGIE DOCKENS opening for one of our absolute favorites all the way from Baton Rouge\, KENNY NEAL AND HIS FAMILY BAND. The event is held out in the shaded garden between the Hotel and Restaurant. The $50 + tax admission price includes an opening and headliner band plus a delicious barbeque dinner. For tickets\, call the hotel at 707-275-2244 ext. 0.
X-ALT-DESC;FMTTYPE=text/html:Because of the fires in Lake County\, we&rsquo\;ve re-scheduled the first night of our annual Blue Wing Blues Festival from August 4 to Saturday September 1. We&rsquo\;re very fortunate that Kenny and his Family Band is able to make a special trip out from Baton Rouge to do these two make-up gigs for us. The opening night features a great local band headed by guitarist HOWARD REGGIE DOCKENS opening for one of our absolute favorites all the way from Baton Rouge\, KENNY NEAL AND HIS FAMILY BAND. The event is held out in the shaded garden between the Hotel and Restaurant. The $50 + tax admission price includes an opening and headliner band plus a delicious barbeque dinner. For tickets\, call the hotel at 707-275-2244 ext. 0.
LOCATION:Tallman Hotel 9550 Main St. Upper Lake
UID:e.2411.5979
SEQUENCE:3
DTSTAMP:20260423T195358Z
URL:https://support.lakecochamber.com/events/details/kenny-neal-at-blue-wing-labor-day-blues-fest-5979
END:VEVENT

END:VCALENDAR
