BEGIN:VCALENDAR
VERSION:2.0
PRODID:-//ChamberMaster//Event Calendar 2.0//EN
METHOD:PUBLISH
X-PUBLISHED-TTL:P3D
REFRESH-INTERVAL:P3D
CALSCALE:GREGORIAN
BEGIN:VEVENT
DTSTART:20220722T010000Z
DTEND:20220722T050000Z
X-MICROSOFT-CDO-ALLDAYEVENT:FALSE
SUMMARY:Kickin' in the Country
DESCRIPTION:Big Brother & the Holding Co - 60's + 70's Music
X-ALT-DESC;FMTTYPE=text/html:Big Brother &amp\; the Holding Co - 60&#39\;s + 70&#39\;s Music
LOCATION:Main Street in Kelseyville
UID:e.2411.14038
SEQUENCE:3
DTSTAMP:20260423T210844Z
URL:https://support.lakecochamber.com/events/details/kickin-in-the-country-14038
END:VEVENT

END:VCALENDAR
