BEGIN:VCALENDAR
VERSION:2.0
PRODID:-//ChamberMaster//Event Calendar 2.0//EN
METHOD:PUBLISH
X-PUBLISHED-TTL:P3D
REFRESH-INTERVAL:P3D
CALSCALE:GREGORIAN
BEGIN:VEVENT
DTSTART:20221103T010000Z
DTEND:20221103T030000Z
X-MICROSOFT-CDO-ALLDAYEVENT:FALSE
SUMMARY:LAKE COUNTY ARTS HOSTS CALIFORNIA CREATIVE CORPS
DESCRIPTION:County arts agencies across California's Upstate Region are thrilled to be working alongside one another on a new workforce development opportunity for artists and cultural practitioners\, arts and social service sector organizations.\n\nOn November 2nd at 6pm\, Lake County Arts Council will co-host a California Creative Corps Listening Session at Soper Reese Theatre\, 275 S Main St\, Lakeport\, CA\, to present key information and invite a conversation on how artists can help communities tackle issues most critical to them\, as part of an Upstate Listening Tour across 19 counties.\n\nArtists\, cultural practitioners\, and arts and social service sector organizations and local leaders are encouraged to attend. More details at upstatecreativecorps.org\n\n \n\nAttend the in-person or virtually via zoom to contribute your ideas.\n\nRegister in advance for this meeting:\n\nhttps://us02web.zoom.us/.../tZcude-hrDkiGNUzieDLj_Hxr3t3...
X-ALT-DESC;FMTTYPE=text/html:<div class="xdj266r x11i5rnm xat24cr x1mh8g0r x1vvkbs" style="margin: 0px\; overflow-wrap: break-word\; font-family: &quot\;Segoe UI Historic&quot\;\, &quot\;Segoe UI&quot\;\, Helvetica\, Arial\, sans-serif\; color: rgb(5\, 5\, 5)\; font-size: 15px\;">County arts agencies across California&rsquo\;s Upstate Region are thrilled to be working alongside one another on a new workforce development opportunity for artists and cultural practitioners\, arts and social service sector organizations.</div>\n\n<div class="x11i5rnm xat24cr x1mh8g0r x1vvkbs xtlvy1s" style="margin: 0.5em 0px 0px\; overflow-wrap: break-word\; font-family: &quot\;Segoe UI Historic&quot\;\, &quot\;Segoe UI&quot\;\, Helvetica\, Arial\, sans-serif\; color: rgb(5\, 5\, 5)\; font-size: 15px\;">On November 2nd at 6pm\, Lake County Arts Council will co-host a California Creative Corps Listening Session at Soper Reese Theatre\, 275 S Main St\, Lakeport\, CA\, to present key information and invite a conversation on how artists can help communities tackle issues most critical to them\, as part of an Upstate Listening Tour across 19 counties.</div>\n\n<div class="x11i5rnm xat24cr x1mh8g0r x1vvkbs xtlvy1s" style="margin: 0.5em 0px 0px\; overflow-wrap: break-word\; font-family: &quot\;Segoe UI Historic&quot\;\, &quot\;Segoe UI&quot\;\, Helvetica\, Arial\, sans-serif\; color: rgb(5\, 5\, 5)\; font-size: 15px\;">Artists\, cultural practitioners\, and arts and social service sector organizations and local leaders are encouraged to attend. More details at&nbsp\;<a class="x1i10hfl xjbqb8w x6umtig x1b1mbwd xaqea5y xav7gou x9f619 x1ypdohk xt0psk2 xe8uvvx xdj266r x11i5rnm xat24cr x1mh8g0r xexx8yu x4uap5 x18d9i69 xkhd6sd x16tdsg8 x1hl2dhg xggy1nq x1a2a7pz xt0b8zv x1fey0fg" href="http://upstatecreativecorps.org/?fbclid=IwAR2q6P3oAYPSvdMSPvgpgWtcTGH6KPn7EmtkLgxwh7d-TuUL7czyMXSbOl4" rel="nofollow noopener" role="link" style="color: var(--blue-link)\; cursor: pointer\; text-decoration-line: none\; outline: none\; list-style: none\; border-width: 0px\; border-style: initial\; border-color: initial\; margin: 0px\; text-align: inherit\; padding: 0px\; -webkit-tap-highlight-color: transparent\; box-sizing: border-box\; touch-action: manipulation\; background-color: transparent\; display: inline\; font-family: inherit\;" tabindex="0" target="_blank">upstatecreativecorps.org</a></div>\n\n<div class="x11i5rnm xat24cr x1mh8g0r x1vvkbs xtlvy1s" style="margin: 0.5em 0px 0px\; overflow-wrap: break-word\; font-family: &quot\;Segoe UI Historic&quot\;\, &quot\;Segoe UI&quot\;\, Helvetica\, Arial\, sans-serif\; color: rgb(5\, 5\, 5)\; font-size: 15px\;">&nbsp\;</div>\n\n<div class="x11i5rnm xat24cr x1mh8g0r x1vvkbs xtlvy1s" style="margin: 0.5em 0px 0px\; overflow-wrap: break-word\; font-family: &quot\;Segoe UI Historic&quot\;\, &quot\;Segoe UI&quot\;\, Helvetica\, Arial\, sans-serif\; color: rgb(5\, 5\, 5)\; font-size: 15px\;">Attend the in-person or virtually via zoom to contribute your ideas.</div>\n\n<div class="x11i5rnm xat24cr x1mh8g0r x1vvkbs xtlvy1s" style="margin: 0.5em 0px 0px\; overflow-wrap: break-word\; font-family: &quot\;Segoe UI Historic&quot\;\, &quot\;Segoe UI&quot\;\, Helvetica\, Arial\, sans-serif\; color: rgb(5\, 5\, 5)\; font-size: 15px\;">Register in advance for this meeting:<br />\n<a class="x1i10hfl xjbqb8w x6umtig x1b1mbwd xaqea5y xav7gou x9f619 x1ypdohk xt0psk2 xe8uvvx xdj266r x11i5rnm xat24cr x1mh8g0r xexx8yu x4uap5 x18d9i69 xkhd6sd x16tdsg8 x1hl2dhg xggy1nq x1a2a7pz xt0b8zv x1fey0fg" href="https://l.facebook.com/l.php?u=https%3A%2F%2Fus02web.zoom.us%2Fmeeting%2Fregister%2FtZcude-hrDkiGNUzieDLj_Hxr3t3-G_iWV4t%3Ffbclid%3DIwAR1NKIF8nUBQ52-Esw4VryIlz1HatMfe6HWmLs04z7HdwnuJCFt2UU1ksh4&amp\;h=AT2wJe1mFkSEKqv7KnFE8k1gWjuX8U5xpfumYDccG0_x61Of1HRYk2QP-5bb6ukIrYcdGWzanhKrTAwcfZc9aLFym8A2nTrGrhJIDoYWv-c1A0Mu72Vpndl8JnorBktEDw&amp\;__tn__=q&amp\;c[0]=AT0vgwELiB3W9maDBT2nI_xLSlWKx1q09CRZmkzHM5sOSHEJauVBmSwEQbt6gRkMyIquxGE6anIGCEQCWZJEA7bXBqUY47siXnp34lPqYPianBeHmpOTc-7ZS_4gUjx__nBuCrdcTH_Hb5Ue_PkFq0fSKtLL" rel="nofollow noopener" role="link" style="color: var(--blue-link)\; cursor: pointer\; text-decoration-line: none\; outline: none\; list-style: none\; border-width: 0px\; border-style: initial\; border-color: initial\; margin: 0px\; text-align: inherit\; padding: 0px\; -webkit-tap-highlight-color: transparent\; box-sizing: border-box\; touch-action: manipulation\; background-color: transparent\; display: inline\; font-family: inherit\;" tabindex="0" target="_blank">https://us02web.zoom.us/.../tZcude-hrDkiGNUzieDLj_Hxr3t3...</a></div>\n
LOCATION:Soper Reese Theatre 275 S\, Main St Lakeport
UID:e.2411.15662
SEQUENCE:3
DTSTAMP:20260424T220149Z
URL:https://support.lakecochamber.com/events/details/lake-county-arts-hosts-california-creative-corps-15662
END:VEVENT

END:VCALENDAR
