BEGIN:VCALENDAR
VERSION:2.0
PRODID:-//ChamberMaster//Event Calendar 2.0//EN
METHOD:PUBLISH
X-PUBLISHED-TTL:P3D
REFRESH-INTERVAL:P3D
CALSCALE:GREGORIAN
BEGIN:VEVENT
DTSTART:20220709T010000Z
DTEND:20220709T040000Z
X-MICROSOFT-CDO-ALLDAYEVENT:FALSE
SUMMARY:Lake County Rodeo
DESCRIPTION:Lake County Fairgrounds in Lakeport. This is a sanctioned CCPRA Pro Rodeo featuring 7 Pro Events plus Local Barrel Racing and Local Team Roping events.
X-ALT-DESC;FMTTYPE=text/html:<span style="color: rgb(5\, 5\, 5)\; font-family: &quot\;Segoe UI Historic&quot\;\, &quot\;Segoe UI&quot\;\, Helvetica\, Arial\, sans-serif\; font-size: 15px\; white-space: pre-wrap\;">Lake County Fairgrounds in Lakeport. This is a sanctioned CCPRA Pro Rodeo featuring 7 Pro Events plus Local Barrel Racing and Local Team Roping events. </span>
LOCATION:Lake County Fairgrounds 801 Martin St Lakeport
UID:e.2411.14152
SEQUENCE:3
DTSTAMP:20260423T041243Z
URL:https://support.lakecochamber.com/events/details/lake-county-rodeo-14152
END:VEVENT

END:VCALENDAR
