BEGIN:VCALENDAR
VERSION:2.0
PRODID:-//ChamberMaster//Event Calendar 2.0//EN
METHOD:PUBLISH
X-PUBLISHED-TTL:P3D
REFRESH-INTERVAL:P3D
CALSCALE:GREGORIAN
BEGIN:VEVENT
DTSTART:20180826T220000Z
DTEND:20180827T020000Z
X-MICROSOFT-CDO-ALLDAYEVENT:FALSE
SUMMARY:Lake County Strong Block Party @ O'Meara Bros
DESCRIPTION:O'Meara Brothers Brewing Company is hosting the Lake County Strong Block Party Sunday Aug\, 26 2018 from 3pm to 7 pm. The reason for the event is to thank the first responders and nonprofits that aided its residents during the Mendocino Complex Fires. We also be Raising money to send to the family Battalion Chief Mathew Burchett of Draper City Utah.
X-ALT-DESC;FMTTYPE=text/html:O&rsquo\;Meara Brothers Brewing Company is hosting the <span style="font-size:14px\;"><span style="color:#006400\;"><strong>Lake County Strong Block Party Sunday Aug\, 26 2018</strong></span></span> from 3pm to 7 pm. The reason for the event is to thank the first responders and nonprofits that aided its residents during the Mendocino Complex Fires. We also be Raising money to send to the family Battalion Chief Mathew Burchett of Draper City Utah.<br />\n<br />\n&nbsp\;
LOCATION:O'Meara Bros. Brewing Co. 901 Bevins St Lakeport Ca
UID:e.2411.5962
SEQUENCE:3
DTSTAMP:20260423T181810Z
URL:https://support.lakecochamber.com/events/details/lake-county-strong-block-party-o-meara-bros-5962
END:VEVENT

END:VCALENDAR
