BEGIN:VCALENDAR
VERSION:2.0
PRODID:-//ChamberMaster//Event Calendar 2.0//EN
METHOD:PUBLISH
X-PUBLISHED-TTL:P3D
REFRESH-INTERVAL:P3D
CALSCALE:GREGORIAN
BEGIN:VEVENT
DTSTART:20220918T000000Z
DTEND:20220918T050000Z
X-MICROSOFT-CDO-ALLDAYEVENT:FALSE
SUMMARY:Lake County Wine Auction
DESCRIPTION:Lake County Wine Auction with food and winery vendors\, dinner\, live auction\, online auction and dancing.
X-ALT-DESC;FMTTYPE=text/html:Lake County Wine Auction with food and winery vendors\, dinner\, live auction\, online auction and dancing.
LOCATION:The Mercantile 4650 Thomas Drive Kelseyville\, CA 95451
UID:e.2411.14640
SEQUENCE:3
DTSTAMP:20260424T183726Z
URL:https://support.lakecochamber.com/events/details/lake-county-wine-auction-09-17-2022-14640
END:VEVENT

END:VCALENDAR
