BEGIN:VCALENDAR
VERSION:2.0
PRODID:-//ChamberMaster//Event Calendar 2.0//EN
METHOD:PUBLISH
X-PUBLISHED-TTL:P3D
REFRESH-INTERVAL:P3D
CALSCALE:GREGORIAN
BEGIN:VEVENT
DTSTART:20220607T210000Z
DTEND:20220608T010000Z
X-MICROSOFT-CDO-ALLDAYEVENT:FALSE
SUMMARY:Lake Leadership Forum
DESCRIPTION:The Lake Leadership Forum is back! This year's event will focus on the future of Lake County. We have invited a lineup of guest speakers that will share their thoughts\, ideas\, and projects to inspire innovation in our very important industries of agriculture and tourism   especially where they intersect. Purchase tickets here: https://tinyurl.com/LakeForum22
X-ALT-DESC;FMTTYPE=text/html:The Lake Leadership Forum is back! This year&#39\;s event will focus on the future of Lake County. We have invited a lineup of guest speakers that will share their thoughts\, ideas\, and projects to inspire innovation in our very important industries of agriculture and tourism &ndash\; especially where they intersect. Purchase tickets here: https://tinyurl.com/LakeForum22
LOCATION:The Mercantile 4350 Thomas Drive\, Lakeport\, CA\, 95453
UID:e.2411.14396
SEQUENCE:3
DTSTAMP:20260423T041923Z
URL:https://support.lakecochamber.com/events/details/lake-leadership-forum-14396
END:VEVENT

END:VCALENDAR
