BEGIN:VCALENDAR
VERSION:2.0
PRODID:-//ChamberMaster//Event Calendar 2.0//EN
METHOD:PUBLISH
X-PUBLISHED-TTL:P3D
REFRESH-INTERVAL:P3D
CALSCALE:GREGORIAN
BEGIN:VEVENT
DTSTART:20221123T190000Z
DTEND:20221123T230000Z
X-MICROSOFT-CDO-ALLDAYEVENT:FALSE
SUMMARY:Lakeport Community Blood Drive
DESCRIPTION:Our blood donations are vital to patients year-round\, but especially during the holidays\, when blood donations typically drop. If there isn't enough blood available for patients\, doctors may be faced with the impossible choice of who gets blood and who must wait. Please\, will you join others in donating around Thanksgiving to prevent unthinkable choices? To support the community blood supply\, United Christian Parish will be hosting a blood drive at 745 N. Brush St in Lakeport. The drive will be taking place from 11am - 3pm\, appointments are encouraged. In appreciation for donating around the Thanksgiving holiday\, all whole blood\, platelet\, plasma and Power Red donors who come to donate Nov. 22 - 28\, 2022\, will receive a $20 Amazon.com Gift Card\, redeemable by email.
X-ALT-DESC;FMTTYPE=text/html:Our blood donations are vital to patients year-round\, but especially during the holidays\, when blood donations typically drop. If there isn&#39\;t enough blood available for patients\, doctors may be faced with the impossible choice of who gets blood and who must wait. Please\, will you join others in donating around Thanksgiving to prevent unthinkable choices? To support the community blood supply\, United Christian Parish will be hosting a blood drive at 745 N. Brush St in Lakeport. The drive will be taking place from 11am - 3pm\, appointments are encouraged. In appreciation for donating around the Thanksgiving holiday\, all whole blood\, platelet\, plasma and Power Red donors who come to donate Nov. 22 - 28\, 2022\, will receive a $20 Amazon.com Gift Card\, redeemable by email.
LOCATION:745 N. Brush St. Lakeport\, CA 95453
UID:e.2411.15685
SEQUENCE:3
DTSTAMP:20260424T173432Z
URL:https://support.lakecochamber.com/events/details/lakeport-community-blood-drive-15685
END:VEVENT

END:VCALENDAR
