BEGIN:VCALENDAR
VERSION:2.0
PRODID:-//ChamberMaster//Event Calendar 2.0//EN
METHOD:PUBLISH
X-PUBLISHED-TTL:P3D
REFRESH-INTERVAL:P3D
CALSCALE:GREGORIAN
BEGIN:VEVENT
DTSTART:20220602T003000Z
DTEND:20220602T013000Z
X-MICROSOFT-CDO-ALLDAYEVENT:FALSE
SUMMARY:Lakeport Downtown Walking Moai
DESCRIPTION:Join Blue Zones Project's walking Moai
X-ALT-DESC;FMTTYPE=text/html:Join Blue Zones Project's walking Moai&nbsp\;
LOCATION:Clearlake Club Back Deck 210 North Main St Lakeepor
UID:e.2411.14921
SEQUENCE:3
DTSTAMP:20260423T045243Z
URL:https://support.lakecochamber.com/events/details/lakeport-downtown-walking-moai-06-01-2022-14921
END:VEVENT

END:VCALENDAR
