BEGIN:VCALENDAR
VERSION:2.0
PRODID:-//ChamberMaster//Event Calendar 2.0//EN
METHOD:PUBLISH
X-PUBLISHED-TTL:P3D
REFRESH-INTERVAL:P3D
CALSCALE:GREGORIAN
BEGIN:VEVENT
DTSTART:20220528T180000Z
DTEND:20220528T200000Z
X-MICROSOFT-CDO-ALLDAYEVENT:FALSE
SUMMARY:Lakeport Memorial Day Parade
DESCRIPTION:Lakeport Memorial Day Parade
X-ALT-DESC;FMTTYPE=text/html:Lakeport Memorial Day Parade
LOCATION:Downtown Lakeport
UID:e.2411.14055
SEQUENCE:3
DTSTAMP:20260424T050416Z
URL:https://support.lakecochamber.com/events/details/lakeport-memorial-day-parade-14055
END:VEVENT

END:VCALENDAR
