BEGIN:VCALENDAR
VERSION:2.0
PRODID:-//ChamberMaster//Event Calendar 2.0//EN
METHOD:PUBLISH
X-PUBLISHED-TTL:P3D
REFRESH-INTERVAL:P3D
CALSCALE:GREGORIAN
BEGIN:VEVENT
DTSTART:20220703T000000Z
DTEND:20220703T050000Z
X-MICROSOFT-CDO-ALLDAYEVENT:FALSE
SUMMARY:Lakeport Speedway
DESCRIPTION:At Lakeport Speedway\, experience auto races including boat racing.\n\nAfter the auto races the will be fireworks. Gates open at 3:30 pm with racing starting at 5 pm. Tickets at the gate.
X-ALT-DESC;FMTTYPE=text/html:At Lakeport Speedway\, experience auto races including boat racing.<br />\nAfter the auto races the will be fireworks. Gates open at 3:30 pm with racing starting at 5 pm. Tickets at the gate.
LOCATION:Lake County Fairgrounds
UID:e.2411.15133
SEQUENCE:3
DTSTAMP:20260425T102721Z
URL:https://support.lakecochamber.com/events/details/lakeport-speedway-15133
END:VEVENT

END:VCALENDAR
