BEGIN:VCALENDAR
VERSION:2.0
PRODID:-//ChamberMaster//Event Calendar 2.0//EN
METHOD:PUBLISH
X-PUBLISHED-TTL:P3D
REFRESH-INTERVAL:P3D
CALSCALE:GREGORIAN
BEGIN:VEVENT
DTSTART:20220716T160000Z
DTEND:20220716T230000Z
X-MICROSOFT-CDO-ALLDAYEVENT:FALSE
SUMMARY:Lavender Harvest Celebration
DESCRIPTION:Stroll through our lavender field\, sip lavender lemonade and munch on lavender sugar cookies\, and pose for photos amongst the fragrant purple flowers.\n\nFamilies welcome! Dogs welcome on-leash!\n\n(Hint- the morning and evening light in the lavender field is ideal for photos).
X-ALT-DESC;FMTTYPE=text/html:<span style="color: rgb(5\, 5\, 5)\; font-family: &quot\;Segoe UI Historic&quot\;\, &quot\;Segoe UI&quot\;\, Helvetica\, Arial\, sans-serif\; font-size: 15px\;">Stroll through our lavender field\, sip lavender lemonade and munch on lavender sugar cookies\, and pose for photos amongst the fragrant purple flowers.</span><br style="color: rgb(5\, 5\, 5)\; font-family: &quot\;Segoe UI Historic&quot\;\, &quot\;Segoe UI&quot\;\, Helvetica\, Arial\, sans-serif\; font-size: 15px\;" />\n<span style="color: rgb(5\, 5\, 5)\; font-family: &quot\;Segoe UI Historic&quot\;\, &quot\;Segoe UI&quot\;\, Helvetica\, Arial\, sans-serif\; font-size: 15px\;">Families welcome! Dogs welcome on-leash!</span><br style="color: rgb(5\, 5\, 5)\; font-family: &quot\;Segoe UI Historic&quot\;\, &quot\;Segoe UI&quot\;\, Helvetica\, Arial\, sans-serif\; font-size: 15px\;" />\n<span style="color: rgb(5\, 5\, 5)\; font-family: &quot\;Segoe UI Historic&quot\;\, &quot\;Segoe UI&quot\;\, Helvetica\, Arial\, sans-serif\; font-size: 15px\;">(Hint- the morning and evening light in the lavender field is ideal for photos).</span>
LOCATION:Peace and Plenty Farm\, CA 4550 Soda Bay Rd\, Kelseyville\, CA
UID:e.2411.15161
SEQUENCE:3
DTSTAMP:20260425T102755Z
URL:https://support.lakecochamber.com/events/details/lavender-harvest-celebration-15161
END:VEVENT

END:VCALENDAR
