BEGIN:VCALENDAR
VERSION:2.0
PRODID:-//ChamberMaster//Event Calendar 2.0//EN
METHOD:PUBLISH
X-PUBLISHED-TTL:P3D
REFRESH-INTERVAL:P3D
CALSCALE:GREGORIAN
BEGIN:VEVENT
DTSTART:20220507T180000Z
DTEND:20220507T220000Z
X-MICROSOFT-CDO-ALLDAYEVENT:FALSE
SUMMARY:LCCA Meeting & Mixer
DESCRIPTION:Lake County Cannabis Alliance monthly meeting & potluck mixer w/music by Blues Farm\; Meet the members behind LCCA\; Family friendly event\; Everyone welcome
X-ALT-DESC;FMTTYPE=text/html:Lake County Cannabis Alliance monthly meeting &amp\; potluck mixer w/music by Blues Farm\; Meet the members behind LCCA\; Family friendly event\; Everyone welcome
LOCATION:Visit Lake County Cannabis Alliance Facebook\, Instagram or website for details.
UID:e.2411.14428
SEQUENCE:3
DTSTAMP:20260424T064452Z
URL:https://support.lakecochamber.com/events/details/lcca-meeting-mixer-14428
END:VEVENT

END:VCALENDAR
