BEGIN:VCALENDAR
VERSION:2.0
PRODID:-//ChamberMaster//Event Calendar 2.0//EN
METHOD:PUBLISH
X-PUBLISHED-TTL:P3D
REFRESH-INTERVAL:P3D
CALSCALE:GREGORIAN
BEGIN:VEVENT
DTSTART:20260121T170000Z
DTEND:20260121T183000Z
X-MICROSOFT-CDO-ALLDAYEVENT:FALSE
SUMMARY:LCCC BOARD OF DIRECTORS
DESCRIPTION:BOARD OF DIRECTORS (JOINT WITH EDC FIRST 45 MINS)\n\nVISIT LAKE COUNTY PRESENTATION - BRIAN FISHER
X-ALT-DESC;FMTTYPE=text/html:BOARD OF DIRECTORS (JOINT WITH EDC FIRST 45 MINS)<br />\nVISIT LAKE COUNTY PRESENTATION - BRIAN FISHER
LOCATION:TBA FOR INFORMATION CALL 707-263-5092
UID:e.2411.20271
SEQUENCE:3
DTSTAMP:20260421T120725Z
URL:https://support.lakecochamber.com/events/details/lccc-board-of-directors-20271
END:VEVENT

END:VCALENDAR
