BEGIN:VCALENDAR
VERSION:2.0
PRODID:-//ChamberMaster//Event Calendar 2.0//EN
METHOD:PUBLISH
X-PUBLISHED-TTL:P3D
REFRESH-INTERVAL:P3D
CALSCALE:GREGORIAN
BEGIN:VEVENT
DTSTART:20220508T210000Z
DTEND:20220509T000000Z
X-MICROSOFT-CDO-ALLDAYEVENT:FALSE
SUMMARY:LCSA Mothers Day Concert
DESCRIPTION:Lake County Symphony Association presents their first live concert since Covid struck - their Mothers Day Concert. The theme is Salute to Broadway with featured vocalist Paula Samonte.
X-ALT-DESC;FMTTYPE=text/html:Lake County Symphony Association presents their first live concert since Covid struck - their Mothers Day Concert. The theme is Salute to Broadway with featured vocalist Paula Samonte.
LOCATION:Soper-Reese Theater\, Lakeport
UID:e.2411.14424
SEQUENCE:3
DTSTAMP:20260424T180141Z
URL:https://support.lakecochamber.com/events/details/lcsa-mothers-day-concert-14424
END:VEVENT

END:VCALENDAR
