BEGIN:VCALENDAR
VERSION:2.0
PRODID:-//ChamberMaster//Event Calendar 2.0//EN
METHOD:PUBLISH
X-PUBLISHED-TTL:P3D
REFRESH-INTERVAL:P3D
CALSCALE:GREGORIAN
BEGIN:VEVENT
DTSTART:20180211T040000Z
DTEND:20180211T070000Z
X-MICROSOFT-CDO-ALLDAYEVENT:FALSE
SUMMARY:LCTC's 3rd Annual Adult prom
DESCRIPTION:Always wanted to go to prom in high school? Or would you just like to relive those days again? In either case\, the Lake County Theatre Company's third annual Adult Prom is the opportunity to enjoy some dancing to the tunes of the the world-famous LC Diamonds. Bring your date and get ready for a great night. Or just come stag - the music's going to be great and it'll a fun way to spend the evening.
X-ALT-DESC;FMTTYPE=text/html:Always wanted to go to prom in high school? Or would you just like to relive those days again? In either case\, the Lake County Theatre Company&#39\;s third annual Adult Prom is the opportunity to enjoy some dancing to the tunes of the the world-famous LC Diamonds. Bring your date and get ready for a great night. Or just come stag - the music&#39\;s going to be great and it&#39\;ll a fun way to spend the evening.
LOCATION:Fritch Hall in the Lake County Fairgrounds.
UID:e.2411.3891
SEQUENCE:3
DTSTAMP:20260424T022300Z
URL:https://support.lakecochamber.com/events/details/lctc-s-3rd-annual-adult-prom-3891
END:VEVENT

END:VCALENDAR
