BEGIN:VCALENDAR
VERSION:2.0
PRODID:-//ChamberMaster//Event Calendar 2.0//EN
METHOD:PUBLISH
X-PUBLISHED-TTL:P3D
REFRESH-INTERVAL:P3D
CALSCALE:GREGORIAN
BEGIN:VEVENT
DTSTART:20180722T010000Z
DTEND:20180722T050000Z
X-MICROSOFT-CDO-ALLDAYEVENT:FALSE
SUMMARY:Life in the Fast Lane & Bad Moon Rising Tribute Band Concert
DESCRIPTION:Enjoy a night of music from the Eagles & Creedence Clearwater Revival. VIP tickets include dinner\, a glass of wine\, and seating in the reserved section. General admission ($15) and VIP ticket ($65+tax\, RSVP required) available at Brown Paper Tickets. $20 at the door for general admission.
X-ALT-DESC;FMTTYPE=text/html:Enjoy a night of music from the Eagles &amp\; Creedence Clearwater Revival. VIP tickets include dinner\, a glass of wine\, and seating in the reserved section. General admission ($15) and VIP ticket ($65+tax\, RSVP required) available at Brown Paper Tickets. $20 at the door for general admission.
LOCATION:Cache Creek Vineyards & Winery 250 New Long Valley Road Clearlake Oaks CA 95423
UID:e.2411.5838
SEQUENCE:3
DTSTAMP:20260423T195952Z
URL:https://support.lakecochamber.com/events/details/life-in-the-fast-lane-bad-moon-rising-tribute-band-concert-5838
END:VEVENT

END:VCALENDAR
