BEGIN:VCALENDAR
VERSION:2.0
PRODID:-//ChamberMaster//Event Calendar 2.0//EN
METHOD:PUBLISH
X-PUBLISHED-TTL:P3D
REFRESH-INTERVAL:P3D
CALSCALE:GREGORIAN
BEGIN:VEVENT
DTSTART:20210207T000000Z
DTEND:20210207T013000Z
X-MICROSOFT-CDO-ALLDAYEVENT:FALSE
SUMMARY:Life Rhythms Drum Circle
DESCRIPTION:Victor Hall will lead the group outside MAC in a rhythm session. Bring your own drum (a few extra drums will be provided if you don't have one). Sign up today to reserve your spot\, Click the Donate button below to get started. (Registration is necessary so we can plan for social distancing). Outside at MAC. Masking/distancing observed
X-ALT-DESC;FMTTYPE=text/html:Victor Hall will lead the group outside MAC in a rhythm session. Bring your own drum (a few extra drums will be provided if you don&#39\;t have one). Sign up today to reserve your spot\, Click the Donate button below to get started. (Registration is necessary so we can plan for social distancing). Outside at MAC. Masking/distancing observed
LOCATION:Middletown Art Center 21456 State Hwy. 175 @ 29\, Middletown CA
UID:e.2411.12710
SEQUENCE:3
DTSTAMP:20260425T023130Z
URL:https://support.lakecochamber.com/events/details/life-rhythms-drum-circle-12710
END:VEVENT

END:VCALENDAR
