BEGIN:VCALENDAR
VERSION:2.0
PRODID:-//ChamberMaster//Event Calendar 2.0//EN
METHOD:PUBLISH
X-PUBLISHED-TTL:P3D
REFRESH-INTERVAL:P3D
CALSCALE:GREGORIAN
BEGIN:VEVENT
DTSTART:20170122T033000Z
DTEND:20170122T050000Z
X-MICROSOFT-CDO-ALLDAYEVENT:FALSE
SUMMARY:Little Charlie Baty at Tallman Concert with Conversation
DESCRIPTION:The Tallman Hotel in Upper Lake sponsors a winter/spring series of informal "Concerts with Conversation" in the Meeting House next to the hotel.  An eclectic group of top notch musicians enjoy playing before an intimate and appreciative audience of 40 or so guests in this room with outstanding acoustics.  Coffee and cookies are served to guests.  Tickets at $25 plus tax can be purchased by calling the Hotel at (707) 275-2244 ext. 0. Tonight's featured trio is called "Little Charlie and Organ Grinder Swing." Leader of the group is the wonderful guitarist Little Charlie Baty.  For many years\, Charlie led the famous blues group "Little Charlie and the Nightcats."  Since then\, he has branched off into different genres together with two of his mates on the Nightcats\, Lorenzo Farrell on organ and percussionist J. Hansen. Tonight's show is co-sponsored by Tom Lincoln of the Lincoln-Leavitt Insurance Agency in Lakeport.
X-ALT-DESC;FMTTYPE=text/html:The Tallman Hotel in Upper Lake sponsors a winter/spring series of informal &ldquo\;Concerts with Conversation&rdquo\; in the Meeting House next to the hotel.&nbsp\; An eclectic group of top notch musicians enjoy playing before an intimate and appreciative audience of 40 or so guests in this room with outstanding acoustics.&nbsp\; Coffee and cookies are served to guests.&nbsp\; Tickets at $25 plus tax can be purchased by calling the Hotel at (707) 275-2244 ext. 0. Tonight&rsquo\;s featured trio is called &ldquo\;Little Charlie and Organ Grinder Swing.&rdquo\; Leader of the group is the wonderful guitarist Little Charlie Baty.&nbsp\; For many years\, Charlie led the famous blues group &ldquo\;Little Charlie and the Nightcats.&rdquo\;&nbsp\; Since then\, he has branched off into different genres together with two of his mates on the Nightcats\, Lorenzo Farrell on organ and percussionist J. Hansen. Tonight&rsquo\;s show is co-sponsored by Tom Lincoln of the Lincoln-Leavitt Insurance Agency in Lakeport.
LOCATION:The Tallman Hotel\, 9550 Main St\, Upper Lake
UID:e.2411.2083
SEQUENCE:3
DTSTAMP:20260424T200621Z
URL:https://support.lakecochamber.com/events/details/little-charlie-baty-at-tallman-concert-with-conversation-2083
END:VEVENT

END:VCALENDAR
