BEGIN:VCALENDAR
VERSION:2.0
PRODID:-//ChamberMaster//Event Calendar 2.0//EN
METHOD:PUBLISH
X-PUBLISHED-TTL:P3D
REFRESH-INTERVAL:P3D
CALSCALE:GREGORIAN
BEGIN:VEVENT
DTSTART:20220502T010000Z
DTEND:20220502T030000Z
X-MICROSOFT-CDO-ALLDAYEVENT:FALSE
SUMMARY:"Live at the Blue Wing" with Boogie Woogie Pianist Wendy DeWitt
DESCRIPTION:The Blue Wing is open from 12 to 8 PM Thursdays through Mondays with a 10:30 start for Sunday Brunch.  Seating is in the garden in good weather\, out on the heated veranda or at our well-spaced indoor tables.  Reservations can be made online HERE or by calling the restaurant at 707-275-2233. Take-out orders can also be placed by phone or online at the MENU PAGE of the Blue Wing Saloon web site.\n\nLocal musicians play from 6 to 8 PM most evenings  on the Hotel veranda in good weather or inside by the bar otherwise. On the first Sunday of the month\, keyboard artist Paul Kemp records a show "Live from the Blue Wing" for later broadcast on local commercial and public stations.  Tonight his special guest will be the "Queen of Boogie Woogie" herself\, pianist WENDY DEWITT\, accompanied on percussion by KIRK HARWOOD.
X-ALT-DESC;FMTTYPE=text/html:<div>\n<p>The Blue Wing is open from 12 to 8 PM Thursdays through Mondays with a 10:30 start for Sunday Brunch.&nbsp\; Seating is in the garden in good weather\, out on the heated veranda or at our well-spaced indoor tables.&nbsp\; Reservations can be made online <a href="https://tallmanhotel.com/blue-wing-saloon/"><strong>HERE</strong></a> or by calling the restaurant at 707-275-2233. Take-out orders can also be placed by phone or online at the <strong><a href="https://tallmanhotel.com/restaurant/food-and-wine-menu/">MENU&nbsp\;</a><a href="https://tallmanhotel.com/restaurant/food-and-wine-menu/">PAGE </a></strong>of the Blue Wing Saloon web site.</p>\n\n<p>Local musicians play from 6 to 8 PM most evenings&nbsp\; on the Hotel veranda in good weather or inside by the bar otherwise. On the first Sunday of the month\, keyboard artist Paul Kemp records a show &ldquo\;Live from the Blue Wing&rdquo\; for later broadcast on local commercial and public stations.&nbsp\; Tonight his special guest will be the &quot\;Queen of Boogie Woogie&quot\; herself\, pianist WENDY DEWITT\, accompanied on percussion by KIRK HARWOOD.&nbsp\;&nbsp\;</p>\n</div>\n
LOCATION:9520 Main St Upper Lake
UID:e.2411.14283
SEQUENCE:3
DTSTAMP:20260424T051443Z
URL:https://support.lakecochamber.com/events/details/live-at-the-blue-wing-with-vocalist-loralee-christensen-14283
END:VEVENT

END:VCALENDAR
