BEGIN:VCALENDAR
VERSION:2.0
PRODID:-//ChamberMaster//Event Calendar 2.0//EN
METHOD:PUBLISH
X-PUBLISHED-TTL:P3D
REFRESH-INTERVAL:P3D
CALSCALE:GREGORIAN
BEGIN:VEVENT
DTSTART:20220424T040000Z
DTEND:20220424T065000Z
X-MICROSOFT-CDO-ALLDAYEVENT:FALSE
SUMMARY:Live Music - Fast Times
DESCRIPTION:Fast Times dance party band is playing April 22nd & 23rd at Twin Pine Casino & Hotel in the Grapevine lounge from 9-1am!
X-ALT-DESC;FMTTYPE=text/html:Fast Times dance party band is playing April 22nd &amp\; 23rd at Twin Pine Casino &amp\; Hotel in the Grapevine lounge from 9-1am!
LOCATION:22223 Hwy 29 Middletown\, CA 95461
UID:e.2411.14351
SEQUENCE:3
DTSTAMP:20260423T190814Z
URL:https://support.lakecochamber.com/events/details/live-music-fast-times-04-23-2022-14351
END:VEVENT

END:VCALENDAR
