BEGIN:VCALENDAR
VERSION:2.0
PRODID:-//ChamberMaster//Event Calendar 2.0//EN
METHOD:PUBLISH
X-PUBLISHED-TTL:P3D
REFRESH-INTERVAL:P3D
CALSCALE:GREGORIAN
BEGIN:VEVENT
DTSTART:20220402T040000Z
DTEND:20220402T065500Z
X-MICROSOFT-CDO-ALLDAYEVENT:FALSE
SUMMARY:Live Music - Nic Eng Band
DESCRIPTION:Nic Eng is one of our favorite bands come on down and check them out this Friday and Saturday at Twin Pine Casino & Hotel in the Grapevine Lounge from 9-1am. Masks are now optional and dancing is allowed!
X-ALT-DESC;FMTTYPE=text/html:Nic Eng is one of our favorite bands come on down and check them out this Friday and Saturday at Twin Pine Casino &amp\; Hotel in the Grapevine Lounge from 9-1am. Masks are now optional and dancing is allowed!
LOCATION:22223 Hwy 29 Middletown\, CA 95461
UID:e.2411.14294
SEQUENCE:3
DTSTAMP:20260423T182410Z
URL:https://support.lakecochamber.com/events/details/live-music-nic-eng-band-14294
END:VEVENT

END:VCALENDAR
