BEGIN:VCALENDAR
VERSION:2.0
PRODID:-//ChamberMaster//Event Calendar 2.0//EN
METHOD:PUBLISH
X-PUBLISHED-TTL:P3D
REFRESH-INTERVAL:P3D
CALSCALE:GREGORIAN
BEGIN:VEVENT
DTSTART:20230427T003000Z
DTEND:20230427T023000Z
X-MICROSOFT-CDO-ALLDAYEVENT:FALSE
SUMMARY:Live Music with Joseph & David
DESCRIPTION:Join us for an evening of fun rock and ballads with local musicians Joseph Bain and David Sammel.
X-ALT-DESC;FMTTYPE=text/html:Join us for an evening of fun rock and ballads with local musicians Joseph Bain and David Sammel.
LOCATION:125 Park Street\, Lakeport\, CA 95453
UID:e.2411.17394
SEQUENCE:3
DTSTAMP:20260422T084509Z
URL:https://support.lakecochamber.com/events/details/live-music-with-joseph-david-17394
END:VEVENT

END:VCALENDAR
