BEGIN:VCALENDAR
VERSION:2.0
PRODID:-//ChamberMaster//Event Calendar 2.0//EN
METHOD:PUBLISH
X-PUBLISHED-TTL:P3D
REFRESH-INTERVAL:P3D
CALSCALE:GREGORIAN
BEGIN:VEVENT
DTSTART:20201205T013000Z
DTEND:20201205T023000Z
X-MICROSOFT-CDO-ALLDAYEVENT:FALSE
SUMMARY:Lower Lake Annual Tree Lighting
DESCRIPTION:The tree will be lit and one or two carols will be sung.\n\nSanta will send greetings from a Lower Lake Fire Truck.\n\nHelp to LIGHT UP LOWER LAKE\n\nRain cancels all but the tree lighting.\n\nSocial distancing and masking requirements will be followed. #lowerlakeschoolhousemuseum #visitlowerlakeca #lovelakecounty
X-ALT-DESC;FMTTYPE=text/html:<div dir="auto" style="font-family: &quot\;Segoe UI Historic&quot\;\, &quot\;Segoe UI&quot\;\, Helvetica\, Arial\, sans-serif\; color: rgb(5\, 5\, 5)\; font-size: 15px\; white-space: pre-wrap\;">The tree will be lit and one or two carols will be sung.</div>\n\n<div dir="auto" style="font-family: &quot\;Segoe UI Historic&quot\;\, &quot\;Segoe UI&quot\;\, Helvetica\, Arial\, sans-serif\; color: rgb(5\, 5\, 5)\; font-size: 15px\; white-space: pre-wrap\;">Santa will send greetings from a Lower Lake Fire Truck.</div>\n\n<div dir="auto" style="font-family: &quot\;Segoe UI Historic&quot\;\, &quot\;Segoe UI&quot\;\, Helvetica\, Arial\, sans-serif\; color: rgb(5\, 5\, 5)\; font-size: 15px\; white-space: pre-wrap\;">Help to LIGHT UP LOWER LAKE</div>\n\n<div dir="auto" style="font-family: &quot\;Segoe UI Historic&quot\;\, &quot\;Segoe UI&quot\;\, Helvetica\, Arial\, sans-serif\; color: rgb(5\, 5\, 5)\; font-size: 15px\; white-space: pre-wrap\;">Rain cancels all but the tree lighting.</div>\n\n<div dir="auto" style="font-family: &quot\;Segoe UI Historic&quot\;\, &quot\;Segoe UI&quot\;\, Helvetica\, Arial\, sans-serif\; color: rgb(5\, 5\, 5)\; font-size: 15px\; white-space: pre-wrap\;">Social distancing and masking requirements will be followed. <span style="font-family: inherit\;"><a class="oajrlxb2 g5ia77u1 qu0x051f esr5mh6w e9989ue4 r7d6kgcz rq0escxv nhd2j8a9 nc684nl6 p7hjln8o kvgmc6g5 cxmmr5t8 oygrvhab hcukyx3x jb3vyjys rz4wbd8a qt6c0cv9 a8nywdso i1ao9s8h esuyzwwr f1sip0of lzcic4wl q66pz984 gpro0wi8 b1v8xokw" href="https://www.facebook.com/hashtag/lowerlakeschoolhousemuseum?__eep__=6&amp\;__cft__[0]=AZV8QbbMI2vfCTrap-lro2Dk5e6O6S9tzQDDpzqX7Ri32p5-iFIjBtDglQwrDUz16-12i2JKLowl4QeW8TOeG9reMOd6TeMqgpfxEbCQJwZRYDj_W0-sWi8CckD7EbjICkEKXufvhTU7xJ4TOhW_PQup45cjYxu32Em-Eeriu4XmiLiiYimGnwPbOB6uT6SP6UU&amp\;__tn__=*NK-R" role="link" style="color: var(--accent)\; cursor: pointer\; text-decoration-line: none\; outline: none\; list-style: none\; border-width: 0px\; border-style: initial\; border-color: initial\; padding: 0px\; margin: 0px\; touch-action: manipulation\; background-color: transparent\; text-align: inherit\; display: inline\; -webkit-tap-highlight-color: transparent\; box-sizing: border-box\; font-family: inherit\;" tabindex="0">#lowerlakeschoolhousemuseum</a></span> <span style="font-family: inherit\;"><a class="oajrlxb2 g5ia77u1 qu0x051f esr5mh6w e9989ue4 r7d6kgcz rq0escxv nhd2j8a9 nc684nl6 p7hjln8o kvgmc6g5 cxmmr5t8 oygrvhab hcukyx3x jb3vyjys rz4wbd8a qt6c0cv9 a8nywdso i1ao9s8h esuyzwwr f1sip0of lzcic4wl q66pz984 gpro0wi8 b1v8xokw" href="https://www.facebook.com/hashtag/visitlowerlakeca?__eep__=6&amp\;__cft__[0]=AZV8QbbMI2vfCTrap-lro2Dk5e6O6S9tzQDDpzqX7Ri32p5-iFIjBtDglQwrDUz16-12i2JKLowl4QeW8TOeG9reMOd6TeMqgpfxEbCQJwZRYDj_W0-sWi8CckD7EbjICkEKXufvhTU7xJ4TOhW_PQup45cjYxu32Em-Eeriu4XmiLiiYimGnwPbOB6uT6SP6UU&amp\;__tn__=*NK-R" role="link" style="color: var(--accent)\; cursor: pointer\; text-decoration-line: none\; outline: none\; list-style: none\; border-width: 0px\; border-style: initial\; border-color: initial\; padding: 0px\; margin: 0px\; touch-action: manipulation\; background-color: transparent\; text-align: inherit\; display: inline\; -webkit-tap-highlight-color: transparent\; box-sizing: border-box\; font-family: inherit\;" tabindex="0">#visitlowerlakeca</a></span> <span style="font-family: inherit\;"><a class="oajrlxb2 g5ia77u1 qu0x051f esr5mh6w e9989ue4 r7d6kgcz rq0escxv nhd2j8a9 nc684nl6 p7hjln8o kvgmc6g5 cxmmr5t8 oygrvhab hcukyx3x jb3vyjys rz4wbd8a qt6c0cv9 a8nywdso i1ao9s8h esuyzwwr f1sip0of lzcic4wl q66pz984 gpro0wi8 b1v8xokw" href="https://www.facebook.com/hashtag/lovelakecounty?__eep__=6&amp\;__cft__[0]=AZV8QbbMI2vfCTrap-lro2Dk5e6O6S9tzQDDpzqX7Ri32p5-iFIjBtDglQwrDUz16-12i2JKLowl4QeW8TOeG9reMOd6TeMqgpfxEbCQJwZRYDj_W0-sWi8CckD7EbjICkEKXufvhTU7xJ4TOhW_PQup45cjYxu32Em-Eeriu4XmiLiiYimGnwPbOB6uT6SP6UU&amp\;__tn__=*NK-R" role="link" style="color: var(--accent)\; cursor: pointer\; text-decoration-line: none\; outline: none\; list-style: none\; border-width: 0px\; border-style: initial\; border-color: initial\; padding: 0px\; margin: 0px\; touch-action: manipulation\; background-color: transparent\; text-align: inherit\; display: inline\; -webkit-tap-highlight-color: transparent\; box-sizing: border-box\; font-family: inherit\;" tabindex="0">#lovelakecounty</a></span></div>\n
LOCATION:Lower Lake Schoolhouse Museum outside the Museum.
UID:e.2411.12337
SEQUENCE:3
DTSTAMP:20260426T034641Z
URL:https://support.lakecochamber.com/events/details/lower-lake-annual-tree-lighting-12337
END:VEVENT

END:VCALENDAR
