BEGIN:VCALENDAR
VERSION:2.0
PRODID:-//ChamberMaster//Event Calendar 2.0//EN
METHOD:PUBLISH
X-PUBLISHED-TTL:P3D
REFRESH-INTERVAL:P3D
CALSCALE:GREGORIAN
BEGIN:VEVENT
DTSTART:20180527T180000Z
DTEND:20180527T220000Z
X-MICROSOFT-CDO-ALLDAYEVENT:FALSE
SUMMARY:Lower Lake Daze Parade & BBQ - 2018
DESCRIPTION:Come join us for "The best little parade around".\n\n\n\nThe parade starts down Main Street in Lower Lake @ 11:00. Followed by an Old Time BBQ\, Vendors\, Music and Awards - 11:30 AM - 3:00 PM in Russell Rustici Park behind Lower Lake Fire Department and Brick Hall.\n\n\n\nParade applications contact Lonne Sloan @ 995-2515\n\nVendor/Craft booths contact Sheila Bening @ 995-0614
X-ALT-DESC;FMTTYPE=text/html:Come join us for &quot\;<span style="color:#0000CD\;"><span style="font-size: 16px\;"><strong>The best little parade around</strong></span></span>&quot\;.<br />\n<br />\nThe parade starts down Main Street in Lower Lake @ 11:00. Followed by an Old Time BBQ\, Vendors\, Music and Awards - 11:30 AM - 3:00 PM in Russell Rustici Park behind Lower Lake Fire Department and Brick Hall.<br />\n<br />\nParade applications contact Lonne Sloan @ 995-2515<br />\nVendor/Craft booths contact Sheila Bening @ 995-0614<br />\n&nbsp\;
LOCATION:Lower Lake - Main Street and Park behind Fire Department
UID:e.2411.5521
SEQUENCE:3
DTSTAMP:20260423T223358Z
URL:https://support.lakecochamber.com/events/details/lower-lake-daze-parade-bbq-2018-5521
END:VEVENT

END:VCALENDAR
