BEGIN:VCALENDAR
VERSION:2.0
PRODID:-//ChamberMaster//Event Calendar 2.0//EN
METHOD:PUBLISH
X-PUBLISHED-TTL:P3D
REFRESH-INTERVAL:P3D
CALSCALE:GREGORIAN
BEGIN:VEVENT
DTSTART:20220721T184500Z
DTEND:20220721T201500Z
X-MICROSOFT-CDO-ALLDAYEVENT:FALSE
SUMMARY:Lunch Bunch Chamber Mixer
DESCRIPTION:Chamber Lunch Bunch Mixer
X-ALT-DESC;FMTTYPE=text/html:Chamber Lunch Bunch Mixer
LOCATION:O'Meara Bros Brewing Company 901 Bevins St Lakeport
UID:e.2411.14365
SEQUENCE:3
DTSTAMP:20260423T134618Z
URL:https://support.lakecochamber.com/events/details/lunch-bunch-chamber-mixer-14365
END:VEVENT

END:VCALENDAR
