BEGIN:VCALENDAR
VERSION:2.0
PRODID:-//ChamberMaster//Event Calendar 2.0//EN
METHOD:PUBLISH
X-PUBLISHED-TTL:P3D
REFRESH-INTERVAL:P3D
CALSCALE:GREGORIAN
BEGIN:VEVENT
DTSTART:20170116T020000Z
DTEND:20170116T040000Z
X-MICROSOFT-CDO-ALLDAYEVENT:FALSE
SUMMARY:"Majide" at Blue Wing Sunday Supper
DESCRIPTION:Enjoy a relaxing Sunday suppe at the Blue Wing Restaurant in Upper Lake writh elegant light jazz background music performed by MAJIDE\, the duo of PAUL KEMP on keyboards and vocalist MACHIKO SHIMADA.  They perform inside in the winter and out on the hotel veranda in the summertime.  Sometimes quality local musicians such as sax man Jim Leonardis stop by to play with them.
X-ALT-DESC;FMTTYPE=text/html:Enjoy a relaxing Sunday suppe at the Blue Wing Restaurant in Upper Lake writh elegant light jazz background music performed by MAJIDE\, the duo of PAUL KEMP on keyboards and vocalist MACHIKO SHIMADA.&nbsp\; They perform inside in the winter and out on the hotel veranda in the summertime.&nbsp\; Sometimes quality local musicians such as sax man Jim Leonardis stop by to play with them.
LOCATION:Blue Wing 9520 Main St\, Upper Lake
UID:e.2411.2085
SEQUENCE:3
DTSTAMP:20260424T200514Z
URL:https://support.lakecochamber.com/events/details/majide-at-blue-wing-sunday-supper-01-15-2017-2085
END:VEVENT

END:VCALENDAR
