BEGIN:VCALENDAR
VERSION:2.0
PRODID:-//ChamberMaster//Event Calendar 2.0//EN
METHOD:PUBLISH
X-PUBLISHED-TTL:P3D
REFRESH-INTERVAL:P3D
CALSCALE:GREGORIAN
BEGIN:VEVENT
DTSTART:20161219T020000Z
DTEND:20161219T040000Z
X-MICROSOFT-CDO-ALLDAYEVENT:FALSE
SUMMARY:"Majide" at Blue Wing Sunday Supper
DESCRIPTION:Enjoy a relaxing Sunday supper with elegant light jazz background music performed by MAJIDE\, the duo of PAUL KEMP on keyboards and vocalist MACHIKO SHIMADA. They perform inside in the winter and out on the hotel veranda in the summertime.
X-ALT-DESC;FMTTYPE=text/html:Enjoy a relaxing Sunday supper with elegant light jazz background music performed by MAJIDE\, the duo of PAUL KEMP on keyboards and vocalist MACHIKO SHIMADA. They perform inside in the winter and out on the hotel veranda in the summertime.
LOCATION:Blue Wing Restaurant\, 9520 Main St Upper Lake
UID:e.2411.1822
SEQUENCE:3
DTSTAMP:20260424T212611Z
URL:https://support.lakecochamber.com/events/details/majide-at-blue-wing-sunday-supper-12-18-2016-1822
END:VEVENT

END:VCALENDAR
