BEGIN:VCALENDAR
VERSION:2.0
PRODID:-//ChamberMaster//Event Calendar 2.0//EN
METHOD:PUBLISH
X-PUBLISHED-TTL:P3D
REFRESH-INTERVAL:P3D
CALSCALE:GREGORIAN
BEGIN:VEVENT
DTSTART:20220514T170000Z
DTEND:20220514T210000Z
X-MICROSOFT-CDO-ALLDAYEVENT:FALSE
SUMMARY:Mental Health Matters Day
DESCRIPTION:Lake County Behavioral Health is hosting the annual Mental Health Matters Day in the Park. Come join us as we celebrate Mental Wellness and services that are available in the community. There will be 25 local agencies at the event\, with a fun activity\, and there will be a raffle for some fun baskets. We look forward to seeing you there.
X-ALT-DESC;FMTTYPE=text/html:Lake County Behavioral Health is hosting the annual Mental Health Matters Day in the Park. Come join us as we celebrate Mental Wellness and services that are available in the community. There will be 25 local agencies at the event\, with a fun activity\, and there will be a raffle for some fun baskets. We look forward to seeing you there.
LOCATION:Library Park
UID:e.2411.14425
SEQUENCE:3
DTSTAMP:20260424T045742Z
URL:https://support.lakecochamber.com/events/details/mental-health-matters-day-14425
END:VEVENT

END:VCALENDAR
