BEGIN:VCALENDAR
VERSION:2.0
PRODID:-//ChamberMaster//Event Calendar 2.0//EN
METHOD:PUBLISH
X-PUBLISHED-TTL:P3D
REFRESH-INTERVAL:P3D
CALSCALE:GREGORIAN
BEGIN:VEVENT
DTSTART;VALUE=DATE:20200401
DTEND;VALUE=DATE:20200402
TRANSP:TRANSPARENT
X-MICROSOFT-CDO-ALLDAYEVENT:TRUE
SUMMARY:Middletown Bocce Ball League Sign Ups
DESCRIPTION:Sign Up for Middletown Bocce Ball League is a non profit corp. whose purpose is to provide community unity\, social activity\, and fun. The league is composed of teams made up of from 4 to 12 players. Individuals not associated with their own team will be assigned to a team for play. No experience or special skill is necessary Open to all ages from 14 up. Play is on Tues. and Thurs. evenings starting at 6:00PM. We have 8 week spring and fall sessions\, with prizes to winning teams
X-ALT-DESC;FMTTYPE=text/html:Sign Up for Middletown Bocce Ball League is a non profit corp. whose purpose is to provide community unity\, social activity\, and fun. The league is composed of teams made up of from 4 to 12 players. Individuals not associated with their own team will be assigned to a team for play. No experience or special skill is necessary Open to all ages from 14 up. Play is on Tues. and Thurs. evenings starting at 6:00PM. We have 8 week spring and fall sessions\, with prizes to winning teams&nbsp\;
LOCATION:We have two Bocce Ball courts located behind Church located next to Calpine visitors center
UID:e.2411.9343
SEQUENCE:3
DTSTAMP:20260425T214043Z
URL:https://support.lakecochamber.com/events/details/middletown-bocce-ball-league-sign-ups-04-01-2020-9343
END:VEVENT

END:VCALENDAR
