BEGIN:VCALENDAR
VERSION:2.0
PRODID:-//ChamberMaster//Event Calendar 2.0//EN
METHOD:PUBLISH
X-PUBLISHED-TTL:P3D
REFRESH-INTERVAL:P3D
CALSCALE:GREGORIAN
BEGIN:VEVENT
DTSTART:20220507T210000Z
DTEND:20220507T230000Z
X-MICROSOFT-CDO-ALLDAYEVENT:FALSE
SUMMARY:Mother's Day Tea
DESCRIPTION:Join us for a Special Mother's Day Tea. Family\, friends\, and staff are welcome to join us for Tea & treats to honor our Mother's or that specials person in your life that filled that very important roll. Please reach out to reserve your seat by 05/02/2022. We look forward to celebrating this day with you.
X-ALT-DESC;FMTTYPE=text/html:Join us for a Special Mother&#39\;s Day Tea. Family\, friends\, and staff are welcome to join us for Tea &amp\; treats to honor our Mother&#39\;s or that specials person in your life that filled that very important roll. Please reach out to reserve your seat by 05/02/2022. We look forward to celebrating this day with you.
LOCATION:1343 S. Dora St Ukiah Ca
UID:e.2411.14430
SEQUENCE:3
DTSTAMP:20260424T070632Z
URL:https://support.lakecochamber.com/events/details/mother-s-day-tea-14430
END:VEVENT

END:VCALENDAR
