BEGIN:VCALENDAR
VERSION:2.0
PRODID:-//ChamberMaster//Event Calendar 2.0//EN
METHOD:PUBLISH
X-PUBLISHED-TTL:P3D
REFRESH-INTERVAL:P3D
CALSCALE:GREGORIAN
BEGIN:VEVENT
DTSTART:20220604T010000Z
DTEND:20220604T050000Z
X-MICROSOFT-CDO-ALLDAYEVENT:FALSE
SUMMARY:Mystery Dinner
DESCRIPTION:Clearlake Senior Center is hosting a Mystery Dinner. June 3\, 2022\, 6pm Nicholas Freeman the Godfather of the Irish Mafia is hosting a campaign fundraiser for Joseph O'Connor\, who is running for Governor of the State of California in 1934. The community is cordially invited to attend the dinner for Mr. O'Connor Guest are encouraged to come in costume by the Godfather. ARE YOU UP FOR THE CHALLENGE FO SOLVING A MURDER?
X-ALT-DESC;FMTTYPE=text/html:Clearlake Senior Center is hosting a Mystery Dinner. June 3\, 2022\, 6pm Nicholas Freeman the Godfather of the Irish Mafia is hosting a campaign fundraiser for Joseph O&#39\;Connor\, who is running for Governor of the State of California in 1934. The community is cordially invited to attend the dinner for Mr. O&#39\;Connor Guest are encouraged to come in costume by the Godfather. ARE YOU UP FOR THE CHALLENGE FO SOLVING A MURDER?
LOCATION:3245 Bowers Ave Clearlake
UID:e.2411.14433
SEQUENCE:3
DTSTAMP:20260422T213722Z
URL:https://support.lakecochamber.com/events/details/mystery-dinner-14433
END:VEVENT

END:VCALENDAR
