BEGIN:VCALENDAR
VERSION:2.0
PRODID:-//ChamberMaster//Event Calendar 2.0//EN
METHOD:PUBLISH
X-PUBLISHED-TTL:P3D
REFRESH-INTERVAL:P3D
CALSCALE:GREGORIAN
BEGIN:VEVENT
DTSTART:20220522T173000Z
DTEND:20220522T210000Z
X-MICROSOFT-CDO-ALLDAYEVENT:FALSE
SUMMARY:"Note Worthy" Trio at Blue Wing Sunday Brunch
DESCRIPTION:The Blue Wing is open from 12 to 8 PM Thursdays through Mondays with a 10:30 start for Sunday Brunch.  Seating is in the garden in good weather\, out on the heated veranda or at our well-spaced indoor tables.  Reservations can be made online HERE or by calling the restaurant at 707-275-2233. Take-out orders can also be placed by phone or online at the MENU PAGE of the Blue Wing Saloon web site.\n\nLocal musicians play from 6 to 8 PM most evenings and from 11:30 to 2:00 at brunch on Sundays on the Hotel veranda in good weather or inside by the bar otherwise.  Today at brunch we feature NOTE WORTHY\, a new trio of local luminaries Bill Bordisso\, Sarah Miller and Michael Richeson.
X-ALT-DESC;FMTTYPE=text/html:<div>\n<p>The Blue Wing is open from 12 to 8 PM Thursdays through Mondays with a 10:30 start for Sunday Brunch.&nbsp\; Seating is in the garden in good weather\, out on the heated veranda or at our well-spaced indoor tables.&nbsp\; Reservations can be made online <a href="https://tallmanhotel.com/blue-wing-saloon/"><strong>HERE</strong></a> or by calling the restaurant at 707-275-2233. Take-out orders can also be placed by phone or online at the <strong><a href="https://tallmanhotel.com/restaurant/food-and-wine-menu/">MENU&nbsp\;</a><a href="https://tallmanhotel.com/restaurant/food-and-wine-menu/">PAGE </a></strong>of the Blue Wing Saloon web site.</p>\n\n<p>Local musicians play from 6 to 8 PM most evenings and from 11:30 to 2:00 at brunch on Sundays on the Hotel veranda in good weather or inside by the bar otherwise.&nbsp\; Today at brunch we feature NOTE WORTHY\, a new trio of local luminaries Bill Bordisso\, Sarah Miller and Michael Richeson.</p>\n</div>\n
LOCATION:
UID:e.2411.14288
SEQUENCE:3
DTSTAMP:20260424T183725Z
URL:https://support.lakecochamber.com/events/details/note-worthy-trio-at-blue-wing-sunday-brunch-14288
END:VEVENT

END:VCALENDAR
